BEGIN:VCALENDAR
VERSION:2.0
PRODID:Events Booking
BEGIN:VEVENT
UID:69e8a4b15f909
SUMMARY:Cabin Boat Weekend
DESCRIPTION:The annual Cabin Boat Weekend\, but now in Zeeland!
DTSTART:20250411T160000Z
DTEND:20250413T210000Z
DTSTAMP:20250112T114021Z
ORGANIZER;CN=Activities WSZV Aqua:MAILTO:webevents@wszvaqua.nl
END:VEVENT
END:VCALENDAR